BEGIN:VCALENDAR
VERSION:2.0
PRODID:-//wp-events-plugin.com//7.2.3.1//EN
TZID:America/New_York
X-WR-TIMEZONE:America/New_York
BEGIN:VEVENT
UID:257@tcio.org
DTSTART;TZID=America/New_York:20260426T150000
DTEND;TZID=America/New_York:20260426T190000
DTSTAMP:20260322T143601Z
URL:https://tcio.org/events/treatment-workshop-2026
SUMMARY:Treatment Workshop
DESCRIPTION:With Mock Treatment Meeting Skit:\n"When the H&amp\;I Meeting G
 oes off the Rails"\n\nWith District 70\nAll are welcome to attend!\n\nSUND
 AY\, APRIL 26\, 2026\nCome break bread with us from 3-4pm\nFood will be pr
 ovided and you are welcome to bring a side/desserts\n\nSpeaker Panel from 
 4-5pm\nAsa L.\, Christina C.\, Matt G.\n\nKaraoke Event hosted by Chauncey
  V. from 5pm-7PM\n\nOld Central\n694 King Street\nCharleston\, S.C.\n\nPle
 ase bring: Snacks for Karaoke if you want to\, if not\, just bring yoursel
 f\, your friends\, and sponsees!
ATTACH;FMTTYPE=image/jpeg:https://i0.wp.com/tcio.org/wp-content/uploads/20
 26/03/treatment-workshop-flyer.jpeg?fit=1206%2C1480&ssl=1
LOCATION:Old Central\, 694 King St.\, Charleston\, SC\, 29403\, United Stat
 es
X-APPLE-STRUCTURED-LOCATION;VALUE=URI;X-ADDRESS=694 King St.\, Charleston\,
  SC\, 29403\, United States;X-APPLE-RADIUS=100;X-TITLE=Old Central:geo:0,0
END:VEVENT
BEGIN:VTIMEZONE
TZID:America/New_York
X-LIC-LOCATION:America/New_York
BEGIN:DAYLIGHT
DTSTART:20260308T030000
TZOFFSETFROM:-0500
TZOFFSETTO:-0400
TZNAME:EDT
END:DAYLIGHT
END:VTIMEZONE
END:VCALENDAR