BEGIN:VCALENDAR
VERSION:2.0
PRODID:-//wp-events-plugin.com//7.2.3.1//EN
TZID:America/New_York
X-WR-TIMEZONE:America/New_York
BEGIN:VEVENT
UID:261@tcio.org
DTSTART;TZID=America/New_York:20260502T090000
DTEND;TZID=America/New_York:20260502T120000
DTSTAMP:20260418T140015Z
URL:https://tcio.org/events/bridging-the-gap-hybrid-workshop-upstate-regio
 n
SUMMARY:Bridging the Gap Hybrid Workshop - Upstate Region
DESCRIPTION:Join via Zoom\nPasscode: upstateig
ATTACH;FMTTYPE=image/jpeg:https://i0.wp.com/tcio.org/wp-content/uploads/20
 26/04/IMG_9584.png?fit=1024%2C1536&ssl=1
LOCATION:Upstate Intergroup Office\, 1302 Rutherford Rd\, Greenville\, SC\,
  29609\, United States
X-APPLE-STRUCTURED-LOCATION;VALUE=URI;X-ADDRESS=1302 Rutherford Rd\, Greenv
 ille\, SC\, 29609\, United States;X-APPLE-RADIUS=100;X-TITLE=Upstate Inter
 group Office:geo:0,0
END:VEVENT
BEGIN:VTIMEZONE
TZID:America/New_York
X-LIC-LOCATION:America/New_York
BEGIN:DAYLIGHT
DTSTART:20260308T030000
TZOFFSETFROM:-0500
TZOFFSETTO:-0400
TZNAME:EDT
END:DAYLIGHT
END:VTIMEZONE
END:VCALENDAR