BEGIN:VCALENDAR
VERSION:2.0
PRODID:-//wp-events-plugin.com//7.2.3.1//EN
TZID:America/New_York
X-WR-TIMEZONE:America/New_York
BEGIN:VEVENT
UID:254@tcio.org
DTSTART;TZID=America/New_York;VALUE=DATE:20260515
DTEND;TZID=America/New_York;VALUE=DATE:20260518
DTSTAMP:20260402T123525Z
URL:https://tcio.org/events/79th-annual-sc-state-convention
SUMMARY:79th Annual SC State Convention
DESCRIPTION:Comfort Inn is sold out!\n\nYou can still book at Fairfield Inn
  &amp\; Suites\nPhone: (843) 665-4488
ATTACH;FMTTYPE=image/jpeg:https://i0.wp.com/tcio.org/wp-content/uploads/20
 26/03/SCR-20260311-jhqw.png?fit=920%2C883&ssl=1
LOCATION:Florence Civic Center\, 3300 W Radio Dr\, Florence\, SC\, 29501\, 
 Pee Dee\, United States
X-APPLE-STRUCTURED-LOCATION;VALUE=URI;X-ADDRESS=3300 W Radio Dr\, Florence\
 , SC\, 29501\, Pee Dee\, United States;X-APPLE-RADIUS=100;X-TITLE=Florence
  Civic Center:geo:0,0
END:VEVENT
BEGIN:VTIMEZONE
TZID:America/New_York
X-LIC-LOCATION:America/New_York
BEGIN:DAYLIGHT
DTSTART:20260308T030000
TZOFFSETFROM:-0500
TZOFFSETTO:-0400
TZNAME:EDT
END:DAYLIGHT
END:VTIMEZONE
END:VCALENDAR